BEGIN:VCALENDAR
VERSION:2.0
PRODID:-//Perth Skeptics - ECPv5.2.0//NONSGML v1.0//EN
CALSCALE:GREGORIAN
METHOD:PUBLISH
X-WR-CALNAME:Perth Skeptics
X-ORIGINAL-URL:https://perthskeptics.com.au
X-WR-CALDESC:Events for Perth Skeptics
BEGIN:VTIMEZONE
TZID:UTC
BEGIN:STANDARD
TZOFFSETFROM:+0000
TZOFFSETTO:+0000
TZNAME:UTC
DTSTART:20240101T000000
END:STANDARD
END:VTIMEZONE
BEGIN:VEVENT
DTSTART;TZID=UTC:20240221T190000
DTEND;TZID=UTC:20240221T210000
DTSTAMP:20260421T230558
CREATED:20240213T052905Z
LAST-MODIFIED:20240213T052905Z
UID:666-1708542000-1708549200@perthskeptics.com.au
SUMMARY:How to find microchips in vaccines
DESCRIPTION:Some anti vaxxers claim that vaccines contain microchips that are used by governments to track and control the population. \nThese are testable claims\, specifically: \n\nThat there are microchips in vaccines.\nThat the microchips if found in vaccines can be used for tracking\, mind control or some other nefarious activity that government have encoded into the chips.\n\nWe will examine how we could try and detect microchips in vaccines and if found determine what is the likely function of these microchips. \nThis meeting the discussion will be ably led by Neil. If you come across any interesting material online\, please bring it (on a thumb drive) to share. \nFood and drinks are available at the venue. \nParking at City of Perth car parks is free after 6pm weekdays.
URL:https://perthskeptics.com.au/event/how-to-find-microchips-in-vaccines/
LOCATION:43 Below Bar & Restaurant\, 43 Barrack Street\, Perth\, WA\, 6000\, Australia
ORGANIZER;CN="Tanya":MAILTO:tanya.m@iinet.net.au
END:VEVENT
END:VCALENDAR