BEGIN:VCALENDAR
VERSION:2.0
PRODID:-//Perth Skeptics - ECPv5.2.0//NONSGML v1.0//EN
CALSCALE:GREGORIAN
METHOD:PUBLISH
X-WR-CALNAME:Perth Skeptics
X-ORIGINAL-URL:https://perthskeptics.com.au
X-WR-CALDESC:Events for Perth Skeptics
BEGIN:VTIMEZONE
TZID:UTC
BEGIN:STANDARD
TZOFFSETFROM:+0000
TZOFFSETTO:+0000
TZNAME:UTC
DTSTART:20240101T000000
END:STANDARD
END:VTIMEZONE
BEGIN:VEVENT
DTSTART;TZID=UTC:20240117T190000
DTEND;TZID=UTC:20240117T210000
DTSTAMP:20260421T212026
CREATED:20240110T083407Z
LAST-MODIFIED:20240110T083407Z
UID:662-1705518000-1705525200@perthskeptics.com.au
SUMMARY:Planning for a skeptical 2024
DESCRIPTION:Let’s discuss what we might cover at meetings in 2024. If you have an idea for a presenter or topic\, bring it along\, or message us via Meetup. (Proposing a topic doesn’t mean you’ll be stuck with presenting it\, so don’t be shy!) \nFood and drinks are available at the venue. \nParking at City of Perth car parks is free after 6pm weekdays. \nI appreciate a gold coin donation to help cover the cost of the Meetup platform. \nGo down the stairs off Barrack St or Hay St mall and ask the staff for the conference room.
URL:https://perthskeptics.com.au/event/planning-for-a-skeptical-2024/
LOCATION:43 Below Bar & Restaurant\, 43 Barrack Street\, Perth\, WA\, 6000\, Australia
END:VEVENT
END:VCALENDAR