BEGIN:VCALENDAR
VERSION:2.0
PRODID:-//Perth Skeptics - ECPv5.2.0//NONSGML v1.0//EN
CALSCALE:GREGORIAN
METHOD:PUBLISH
X-WR-CALNAME:Perth Skeptics
X-ORIGINAL-URL:https://perthskeptics.com.au
X-WR-CALDESC:Events for Perth Skeptics
BEGIN:VTIMEZONE
TZID:UTC
BEGIN:STANDARD
TZOFFSETFROM:+0000
TZOFFSETTO:+0000
TZNAME:UTC
DTSTART:20230101T000000
END:STANDARD
END:VTIMEZONE
BEGIN:VEVENT
DTSTART;TZID=UTC:20230621T190000
DTEND;TZID=UTC:20230621T210000
DTSTAMP:20260421T102251
CREATED:20230611T095022Z
LAST-MODIFIED:20230611T095022Z
UID:657-1687374000-1687381200@perthskeptics.com.au
SUMMARY:Psychic scams (and other affronts to reason)
DESCRIPTION:This month we will look at some recent news from the ABC in which the rise of psychic scams in Australia is examined. We’ll listen to a segment from Radio National and discuss its implications and possible action we might take.\nLet’s also each bring along a recent anecdote or piece of news that we found particularly concerning (or amusing!) Free drink for the best one 🙂 NB. I will bring my laptop\, so if you have something to view or play\, bring it on a thumb and we can use the projector and/or computer. \nFood and drinks are available at the venue. Go down the stairs off Barrack St and ask the staff for the conference room. \nParking at City of Perth car parks is free after 6pm weekdays. \nI appreciate a gold coin donation to help cover the cost of the Meetup platform.
URL:https://perthskeptics.com.au/event/psychic-scams-and-other-affronts-to-reason/
LOCATION:43 Below Bar & Restaurant\, 43 Barrack Street\, Perth\, WA\, 6000\, Australia
ORGANIZER;CN="Tanya":MAILTO:tanya.m@iinet.net.au
END:VEVENT
END:VCALENDAR