BEGIN:VCALENDAR
VERSION:2.0
PRODID:-//Perth Skeptics - ECPv5.2.0//NONSGML v1.0//EN
CALSCALE:GREGORIAN
METHOD:PUBLISH
X-WR-CALNAME:Perth Skeptics
X-ORIGINAL-URL:https://perthskeptics.com.au
X-WR-CALDESC:Events for Perth Skeptics
BEGIN:VTIMEZONE
TZID:UTC
BEGIN:STANDARD
TZOFFSETFROM:+0000
TZOFFSETTO:+0000
TZNAME:UTC
DTSTART:20230101T000000
END:STANDARD
END:VTIMEZONE
BEGIN:VEVENT
DTSTART;TZID=UTC:20230517T190000
DTEND;TZID=UTC:20230517T210000
DTSTAMP:20260421T090411
CREATED:20230425T043259Z
LAST-MODIFIED:20230425T043431Z
UID:653-1684350000-1684357200@perthskeptics.com.au
SUMMARY:Concept creep: what is it?
DESCRIPTION:So\, what the heck is “concept creep”? \nSkeptics member Chris Hancock proposed this topic\, for which we hope to have a speaker (linguist Daniel Midgley – TBC) but if not\, Chris will run us through it. \nA definition from Wikipedia (sans references): “Concept creep is the process by which harm-related topics experience semantic expansion to include topics which would not have originally been envisaged to be included under that label. It was first identified by Nick Haslam in 2016\, who identified its effects on the concepts of abuse\, bullying\, trauma\, mental disorder\, addiction\, and prejudice. Others have identified its effects on terms like gaslight and emotional labour. The phenomenon can be related to the concept of hyperbole.\nIt has been criticised for making people more sensitive to harms and for blurring people’s thinking and understanding of such terms\, by categorising too many things together which should not be\, and by losing the clarity and specificity of a term.\nAlthough the initial research on concept creep has focused on concepts central to the political left‘s ideology\, psychologists have also found evidence that people identifying with the political right have more expansive interpretations of concepts central to their own ideology (eg. sexual deviance\, personal responsibility and terrorism).” \nFinding us: Go down the stairs off Barrack St and ask the staff for the conference room \nDrinks and food are available at the venue. \nParking at City of Perth (CPP) car parks is free after 6pm weekdays. \nImage by Yeshi Kangrang (via Unsplash)
URL:https://perthskeptics.com.au/event/concept-creep-what-is-it/
LOCATION:43 Below Bar & Restaurant\, 43 Barrack Street\, Perth\, WA\, 6000\, Australia
ORGANIZER;CN="Tanya":MAILTO:tanya.m@iinet.net.au
END:VEVENT
END:VCALENDAR