BEGIN:VCALENDAR
VERSION:2.0
PRODID:-//Perth Skeptics - ECPv5.2.0//NONSGML v1.0//EN
CALSCALE:GREGORIAN
METHOD:PUBLISH
X-WR-CALNAME:Perth Skeptics
X-ORIGINAL-URL:https://perthskeptics.com.au
X-WR-CALDESC:Events for Perth Skeptics
BEGIN:VTIMEZONE
TZID:UTC
BEGIN:STANDARD
TZOFFSETFROM:+0000
TZOFFSETTO:+0000
TZNAME:UTC
DTSTART:20220101T000000
END:STANDARD
END:VTIMEZONE
BEGIN:VEVENT
DTSTART;TZID=UTC:20220119T190000
DTEND;TZID=UTC:20220119T210000
DTSTAMP:20260420T084342
CREATED:20220109T033715Z
LAST-MODIFIED:20220109T042359Z
UID:613-1642618800-1642626000@perthskeptics.com.au
SUMMARY:A skeptical 2022
DESCRIPTION:The year will start with some brainstorming about what topics the group would like to cover and any actions we’d like to take this year.\nBring your best ideas – and your enthusiasm! \nDrinks and food available at the venue.
URL:https://perthskeptics.com.au/event/a-skeptical-2022/
LOCATION:43 Below Bar & Restaurant\, 43 Barrack Street\, Perth\, WA\, 6000\, Australia
ORGANIZER;CN="Tanya":MAILTO:tanya.m@iinet.net.au
END:VEVENT
END:VCALENDAR