BEGIN:VCALENDAR
VERSION:2.0
PRODID:-//Perth Skeptics - ECPv5.2.0//NONSGML v1.0//EN
CALSCALE:GREGORIAN
METHOD:PUBLISH
X-WR-CALNAME:Perth Skeptics
X-ORIGINAL-URL:https://perthskeptics.com.au
X-WR-CALDESC:Events for Perth Skeptics
BEGIN:VTIMEZONE
TZID:UTC
BEGIN:STANDARD
TZOFFSETFROM:+0000
TZOFFSETTO:+0000
TZNAME:UTC
DTSTART:20200101T000000
END:STANDARD
END:VTIMEZONE
BEGIN:VEVENT
DTSTART;TZID=UTC:20200115T190000
DTEND;TZID=UTC:20200115T210000
DTSTAMP:20260421T035401
CREATED:20191222T093114Z
LAST-MODIFIED:20191222T093114Z
UID:460-1579114800-1579122000@perthskeptics.com.au
SUMMARY:Planning for 2020
DESCRIPTION:At the first meeting of the year we’ll talk about how we might be more active in combating ‘truthiness’ and other BS in 2020\, as well as discussing possible meeting topics for the rest of the year. Put your thinking hats on! \nWe meet upstairs in the Conference Room\, on RHS of the building as seen from the street. Order food & drink downstairs. \nRemember to bring $2 coin for the tin.
URL:https://perthskeptics.com.au/event/planning-for-2020/
LOCATION:The Vic Hotel\, 226 Hay Street\, Subiaco\, 226 Hay Street\, Subiaco\, WA\, 6008\, Australia
END:VEVENT
END:VCALENDAR