BEGIN:VCALENDAR
VERSION:2.0
PRODID:-//Perth Skeptics - ECPv5.2.0//NONSGML v1.0//EN
CALSCALE:GREGORIAN
METHOD:PUBLISH
X-WR-CALNAME:Perth Skeptics
X-ORIGINAL-URL:https://perthskeptics.com.au
X-WR-CALDESC:Events for Perth Skeptics
BEGIN:VTIMEZONE
TZID:Asia/Shanghai
BEGIN:STANDARD
TZOFFSETFROM:+0800
TZOFFSETTO:+0800
TZNAME:CST
DTSTART:20230101T000000
END:STANDARD
END:VTIMEZONE
BEGIN:VEVENT
DTSTART;TZID=Asia/Shanghai:20230215T190000
DTEND;TZID=Asia/Shanghai:20230215T210000
DTSTAMP:20260420T234122
CREATED:20230123T045650Z
LAST-MODIFIED:20230123T045650Z
UID:649-1676487600-1676494800@perthskeptics.com.au
SUMMARY:‘Ancient Aliens Debunked’ documentary - discussion
DESCRIPTION:‘Ancient Aliens Debunked’ is a 3-hour documentary refutation of the theories proposed on the History Channel series ‘Ancient Aliens’. It is essentially a point by point critique of the “ancient astronaut theory” which has been proposed by people like Erich von Däniken and Zecharia Sitchin as well as many others. \n​\nThe film covers topics like:\nAncient building sites: Puma Punku\, The Pyramids\, Baalbek\, Incan sites\, And Easter Island. Ancient artifacts: Pacal’s rocket\, the Nazca lines\, the Tolima “fighter jets”\, the Egyptian “light bulb”\, Ufo’s in ancient art\, and the crystal skulls. Ancient text issues: Ezekiel’s wheel\, Ancient nuclear warfare\, Vimana’s\, the Anunnaki\, and the Nephilim.\nThe website is here http://ancientaliensdebunked.com\n​It was produced by Chris White and includes commentary from Michael Heiser. \n\n\nParticipants are encouraged to watch as much of the film as they can\, then we will discuss what we’ve seen – particularly the methods used in the debunking. \nDrinks and food are available at the venue. Ask the staff for the Skeptics’ meeting room.\nParking at City of Perth car parks is free after 6pm weekdays.\nI appreciate a gold coin donation to help cover the cost of the Meetup platform.
URL:https://perthskeptics.com.au/event/ancient-aliens-debunked-documentary-discussion/
LOCATION:43 Below Bar & Restaurant\, 43 Barrack Street\, Perth\, WA\, 6000\, Australia
ORGANIZER;CN="Tanya":MAILTO:tanya.m@iinet.net.au
END:VEVENT
END:VCALENDAR